BEGIN:VCALENDAR
VERSION:2.0
PRODID:-//Sophia Inclusive Community - ECPv6.15.17//NONSGML v1.0//EN
CALSCALE:GREGORIAN
METHOD:PUBLISH
X-WR-CALNAME:Sophia Inclusive Community
X-ORIGINAL-URL:https://www.sophiainclusivecommunity.org
X-WR-CALDESC:Events for Sophia Inclusive Community
REFRESH-INTERVAL;VALUE=DURATION:PT1H
X-Robots-Tag:noindex
X-PUBLISHED-TTL:PT1H
BEGIN:VTIMEZONE
TZID:UTC
BEGIN:STANDARD
TZOFFSETFROM:+0000
TZOFFSETTO:+0000
TZNAME:UTC
DTSTART:20240101T000000
END:STANDARD
END:VTIMEZONE
BEGIN:VEVENT
DTSTART;TZID=UTC:20250403T190000
DTEND;TZID=UTC:20250403T203000
DTSTAMP:20260421T125620
CREATED:20250331T164631Z
LAST-MODIFIED:20250401T025113Z
UID:929-1743706800-1743712200@www.sophiainclusivecommunity.org
SUMMARY:Social Justice Presentation: Water- the Underestimated Resource
DESCRIPTION:Social Justice Presentation: Water- the Underestimated Resource with Dr. Mary Buzby\, PhD
URL:https://www.sophiainclusivecommunity.org/event/social-justice-presentation-water-the-underestimated-resource/
END:VEVENT
END:VCALENDAR