BEGIN:VCALENDAR
VERSION:2.0
PRODID:-//Sophia Inclusive Community - ECPv6.15.17//NONSGML v1.0//EN
CALSCALE:GREGORIAN
METHOD:PUBLISH
X-WR-CALNAME:Sophia Inclusive Community
X-ORIGINAL-URL:https://www.sophiainclusivecommunity.org
X-WR-CALDESC:Events for Sophia Inclusive Community
REFRESH-INTERVAL;VALUE=DURATION:PT1H
X-Robots-Tag:noindex
X-PUBLISHED-TTL:PT1H
BEGIN:VTIMEZONE
TZID:UTC
BEGIN:STANDARD
TZOFFSETFROM:+0000
TZOFFSETTO:+0000
TZNAME:UTC
DTSTART:20240101T000000
END:STANDARD
END:VTIMEZONE
BEGIN:VEVENT
DTSTART;TZID=UTC:20250417T190000
DTEND;TZID=UTC:20250417T203000
DTSTAMP:20260421T125605
CREATED:20250406T205240Z
LAST-MODIFIED:20250406T205242Z
UID:983-1744916400-1744921800@www.sophiainclusivecommunity.org
SUMMARY:Holy Thursday Liturgy
DESCRIPTION:Holy Thursday Liturgy
URL:https://www.sophiainclusivecommunity.org/event/holy-thursday-liturgy/
END:VEVENT
END:VCALENDAR