BEGIN:VCALENDAR
VERSION:2.0
PRODID:-//Sophia Inclusive Community - ECPv6.15.17//NONSGML v1.0//EN
CALSCALE:GREGORIAN
METHOD:PUBLISH
X-WR-CALNAME:Sophia Inclusive Community
X-ORIGINAL-URL:https://www.sophiainclusivecommunity.org
X-WR-CALDESC:Events for Sophia Inclusive Community
REFRESH-INTERVAL;VALUE=DURATION:PT1H
X-Robots-Tag:noindex
X-PUBLISHED-TTL:PT1H
BEGIN:VTIMEZONE
TZID:UTC
BEGIN:STANDARD
TZOFFSETFROM:+0000
TZOFFSETTO:+0000
TZNAME:UTC
DTSTART:20240101T000000
END:STANDARD
END:VTIMEZONE
BEGIN:VEVENT
DTSTART;TZID=UTC:20250423T190000
DTEND;TZID=UTC:20250423T203000
DTSTAMP:20260421T125723
CREATED:20250331T165728Z
LAST-MODIFIED:20250331T174655Z
UID:936-1745434800-1745440200@www.sophiainclusivecommunity.org
SUMMARY:Book Discussion- Lawrence Hamm: A Life in the Struggle
DESCRIPTION:Book Discussion- Lawrence Hamm: A Life in the Struggle
URL:https://www.sophiainclusivecommunity.org/event/book-discussion-lawrence-hamm-a-life-in-the-struggle/
ATTACH;FMTTYPE=image/jpeg:https://www.sophiainclusivecommunity.org/wp-content/uploads/2025/03/Lawrence-Hamm-1.jpg
END:VEVENT
END:VCALENDAR