BEGIN:VCALENDAR
VERSION:2.0
PRODID:-//Sophia Inclusive Community - ECPv6.15.17//NONSGML v1.0//EN
CALSCALE:GREGORIAN
METHOD:PUBLISH
X-ORIGINAL-URL:https://www.sophiainclusivecommunity.org
X-WR-CALDESC:Events for Sophia Inclusive Community
REFRESH-INTERVAL;VALUE=DURATION:PT1H
X-Robots-Tag:noindex
X-PUBLISHED-TTL:PT1H
BEGIN:VTIMEZONE
TZID:UTC
BEGIN:STANDARD
TZOFFSETFROM:+0000
TZOFFSETTO:+0000
TZNAME:UTC
DTSTART:20240101T000000
END:STANDARD
END:VTIMEZONE
BEGIN:VEVENT
DTSTART;TZID=UTC:20250528T190000
DTEND;TZID=UTC:20250528T203000
DTSTAMP:20260421T080141
CREATED:20250331T171427Z
LAST-MODIFIED:20250408T182452Z
UID:953-1748458800-1748464200@www.sophiainclusivecommunity.org
SUMMARY:Faith Sharing (Tentative)
DESCRIPTION:Faith Sharing (Tentative)
URL:https://www.sophiainclusivecommunity.org/event/faith-sharing-7/
END:VEVENT
END:VCALENDAR