BEGIN:VCALENDAR
VERSION:2.0
PRODID:-//Sophia Inclusive Community - ECPv6.15.17//NONSGML v1.0//EN
CALSCALE:GREGORIAN
METHOD:PUBLISH
X-WR-CALNAME:Sophia Inclusive Community
X-ORIGINAL-URL:https://www.sophiainclusivecommunity.org
X-WR-CALDESC:Events for Sophia Inclusive Community
REFRESH-INTERVAL;VALUE=DURATION:PT1H
X-Robots-Tag:noindex
X-PUBLISHED-TTL:PT1H
BEGIN:VTIMEZONE
TZID:UTC
BEGIN:STANDARD
TZOFFSETFROM:+0000
TZOFFSETTO:+0000
TZNAME:UTC
DTSTART:20240101T000000
END:STANDARD
END:VTIMEZONE
BEGIN:VEVENT
DTSTART;TZID=UTC:20250723T190000
DTEND;TZID=UTC:20250723T203000
DTSTAMP:20260421T155922
CREATED:20250427T193222Z
LAST-MODIFIED:20250427T193224Z
UID:1018-1753297200-1753302600@www.sophiainclusivecommunity.org
SUMMARY:Faith Sharing (Tentative)
DESCRIPTION:Faith Sharing (Tentative)
URL:https://www.sophiainclusivecommunity.org/event/faith-sharing-tentative/
END:VEVENT
END:VCALENDAR