BEGIN:VCALENDAR
VERSION:2.0
PRODID:-//Sophia Inclusive Community - ECPv6.15.17//NONSGML v1.0//EN
CALSCALE:GREGORIAN
METHOD:PUBLISH
X-WR-CALNAME:Sophia Inclusive Community
X-ORIGINAL-URL:https://www.sophiainclusivecommunity.org
X-WR-CALDESC:Events for Sophia Inclusive Community
REFRESH-INTERVAL;VALUE=DURATION:PT1H
X-Robots-Tag:noindex
X-PUBLISHED-TTL:PT1H
BEGIN:VTIMEZONE
TZID:UTC
BEGIN:STANDARD
TZOFFSETFROM:+0000
TZOFFSETTO:+0000
TZNAME:UTC
DTSTART:20240101T000000
END:STANDARD
END:VTIMEZONE
BEGIN:VEVENT
DTSTART;TZID=UTC:20250820T190000
DTEND;TZID=UTC:20250820T203000
DTSTAMP:20260421T125028
CREATED:20250720T200557Z
LAST-MODIFIED:20250720T200601Z
UID:1097-1755716400-1755721800@www.sophiainclusivecommunity.org
SUMMARY:Book Discussion- Heartland Chapters 4 & 5
DESCRIPTION:Book Discussion- Heartland Chapters 4 & 5
URL:https://www.sophiainclusivecommunity.org/event/book-discussion-heartland-chapters-4-5/
ATTACH;FMTTYPE=image/jpeg:https://www.sophiainclusivecommunity.org/wp-content/uploads/2025/07/Heartland-Book.jpg
END:VEVENT
END:VCALENDAR