BEGIN:VCALENDAR
VERSION:2.0
PRODID:-//Sophia Inclusive Community - ECPv6.15.17//NONSGML v1.0//EN
CALSCALE:GREGORIAN
METHOD:PUBLISH
X-WR-CALNAME:Sophia Inclusive Community
X-ORIGINAL-URL:https://www.sophiainclusivecommunity.org
X-WR-CALDESC:Events for Sophia Inclusive Community
REFRESH-INTERVAL;VALUE=DURATION:PT1H
X-Robots-Tag:noindex
X-PUBLISHED-TTL:PT1H
BEGIN:VTIMEZONE
TZID:UTC
BEGIN:STANDARD
TZOFFSETFROM:+0000
TZOFFSETTO:+0000
TZNAME:UTC
DTSTART:20240101T000000
END:STANDARD
END:VTIMEZONE
BEGIN:VEVENT
DTSTART;TZID=UTC:20250914T100000
DTEND;TZID=UTC:20250914T113000
DTSTAMP:20260421T142953
CREATED:20250720T201336Z
LAST-MODIFIED:20250720T201338Z
UID:1104-1757844000-1757849400@www.sophiainclusivecommunity.org
SUMMARY:Sunday Liturgy
DESCRIPTION:Sunday Liturgy
URL:https://www.sophiainclusivecommunity.org/event/sunday-liturgy-67/
END:VEVENT
END:VCALENDAR