BEGIN:VCALENDAR
VERSION:2.0
PRODID:-//Sophia Inclusive Community - ECPv6.15.17//NONSGML v1.0//EN
CALSCALE:GREGORIAN
METHOD:PUBLISH
X-WR-CALNAME:Sophia Inclusive Community
X-ORIGINAL-URL:https://www.sophiainclusivecommunity.org
X-WR-CALDESC:Events for Sophia Inclusive Community
REFRESH-INTERVAL;VALUE=DURATION:PT1H
X-Robots-Tag:noindex
X-PUBLISHED-TTL:PT1H
BEGIN:VTIMEZONE
TZID:UTC
BEGIN:STANDARD
TZOFFSETFROM:+0000
TZOFFSETTO:+0000
TZNAME:UTC
DTSTART:20250101T000000
END:STANDARD
END:VTIMEZONE
BEGIN:VEVENT
DTSTART;TZID=UTC:20260121T190000
DTEND;TZID=UTC:20260121T203000
DTSTAMP:20260421T064126
CREATED:20260106T000805Z
LAST-MODIFIED:20260106T000811Z
UID:1226-1769022000-1769027400@www.sophiainclusivecommunity.org
SUMMARY:Book Discussion- Separation of Church and Hate
DESCRIPTION:Book Discussion- Separation of Church and Hate
URL:https://www.sophiainclusivecommunity.org/event/book-discussion-separation-of-church-and-hate/
ATTACH;FMTTYPE=image/jpeg:https://www.sophiainclusivecommunity.org/wp-content/uploads/2026/01/Seperation-of-Church-and-Hate.jpg
END:VEVENT
END:VCALENDAR