BEGIN:VCALENDAR
VERSION:2.0
PRODID:-//Sophia Inclusive Community - ECPv6.15.17//NONSGML v1.0//EN
CALSCALE:GREGORIAN
METHOD:PUBLISH
X-WR-CALNAME:Sophia Inclusive Community
X-ORIGINAL-URL:https://www.sophiainclusivecommunity.org
X-WR-CALDESC:Events for Sophia Inclusive Community
REFRESH-INTERVAL;VALUE=DURATION:PT1H
X-Robots-Tag:noindex
X-PUBLISHED-TTL:PT1H
BEGIN:VTIMEZONE
TZID:UTC
BEGIN:STANDARD
TZOFFSETFROM:+0000
TZOFFSETTO:+0000
TZNAME:UTC
DTSTART:20230101T000000
END:STANDARD
END:VTIMEZONE
BEGIN:VEVENT
DTSTART;TZID=UTC:20241203T190000
DTEND;TZID=UTC:20241203T193000
DTSTAMP:20260421T082558
CREATED:20240902T191538Z
LAST-MODIFIED:20240902T191540Z
UID:737-1733252400-1733254200@www.sophiainclusivecommunity.org
SUMMARY:Meditation
DESCRIPTION:Meditation
URL:https://www.sophiainclusivecommunity.org/event/meditation-12/
END:VEVENT
BEGIN:VEVENT
DTSTART;TZID=UTC:20241201T100000
DTEND;TZID=UTC:20241201T113000
DTSTAMP:20260421T082558
CREATED:20241002T235021Z
LAST-MODIFIED:20241002T235022Z
UID:796-1733047200-1733052600@www.sophiainclusivecommunity.org
SUMMARY:Sunday Liturgy
DESCRIPTION:Sunday Liturgy
URL:https://www.sophiainclusivecommunity.org/event/sunday-liturgy-35/
END:VEVENT
BEGIN:VEVENT
DTSTART;TZID=UTC:20241124T100000
DTEND;TZID=UTC:20241124T113000
DTSTAMP:20260421T082558
CREATED:20241002T234835Z
LAST-MODIFIED:20241002T234836Z
UID:794-1732442400-1732447800@www.sophiainclusivecommunity.org
SUMMARY:Sunday Liturgy
DESCRIPTION:Sunday Liturgy
URL:https://www.sophiainclusivecommunity.org/event/sunday-liturgy-34/
END:VEVENT
BEGIN:VEVENT
DTSTART;TZID=UTC:20241120T190000
DTEND;TZID=UTC:20241120T210000
DTSTAMP:20260421T082558
CREATED:20241002T234340Z
LAST-MODIFIED:20241002T234342Z
UID:789-1732129200-1732136400@www.sophiainclusivecommunity.org
SUMMARY:Rainbow Railroad (Sophia Junction) Group Discussion 3
DESCRIPTION:Rainbow Railroad (Sophia Junction) Group Discussion 3
URL:https://www.sophiainclusivecommunity.org/event/rainbow-railroad-sophia-junction-group-discussion-3/
END:VEVENT
BEGIN:VEVENT
DTSTART;TZID=UTC:20241119T190000
DTEND;TZID=UTC:20241119T193000
DTSTAMP:20260421T082558
CREATED:20240902T191415Z
LAST-MODIFIED:20240902T191417Z
UID:735-1732042800-1732044600@www.sophiainclusivecommunity.org
SUMMARY:Meditation
DESCRIPTION:Meditation
URL:https://www.sophiainclusivecommunity.org/event/meditation-11/
END:VEVENT
BEGIN:VEVENT
DTSTART;TZID=UTC:20241117T100000
DTEND;TZID=UTC:20241117T113000
DTSTAMP:20260421T082558
CREATED:20241002T234730Z
LAST-MODIFIED:20241002T234732Z
UID:792-1731837600-1731843000@www.sophiainclusivecommunity.org
SUMMARY:Sunday Liturgy
DESCRIPTION:Sunday Liturgy
URL:https://www.sophiainclusivecommunity.org/event/sunday-liturgy-33/
END:VEVENT
BEGIN:VEVENT
DTSTART;TZID=UTC:20241110T100000
DTEND;TZID=UTC:20241110T113000
DTSTAMP:20260421T082558
CREATED:20240902T190858Z
LAST-MODIFIED:20240902T190900Z
UID:729-1731232800-1731238200@www.sophiainclusivecommunity.org
SUMMARY:Sunday Liturgy
DESCRIPTION:Sunday Liturgy
URL:https://www.sophiainclusivecommunity.org/event/sunday-liturgy-32/
END:VEVENT
BEGIN:VEVENT
DTSTART;TZID=UTC:20241106T190000
DTEND;TZID=UTC:20241106T203000
DTSTAMP:20260421T082558
CREATED:20241011T191311Z
LAST-MODIFIED:20241011T191315Z
UID:805-1730919600-1730925000@www.sophiainclusivecommunity.org
SUMMARY:Book Discussion: A More Perfect Union- Part 2
DESCRIPTION:Book Discussion: A More Perfect Union- Part 2 (58 pages)
URL:https://www.sophiainclusivecommunity.org/event/book-discussion-a-more-perfect-union-part-2/
ATTACH;FMTTYPE=image/jpeg:https://www.sophiainclusivecommunity.org/wp-content/uploads/2024/10/A-More-Perfect-Union-Book-Image.jpg
END:VEVENT
BEGIN:VEVENT
DTSTART;TZID=UTC:20241105T190000
DTEND;TZID=UTC:20241105T193000
DTSTAMP:20260421T082558
CREATED:20240902T191219Z
LAST-MODIFIED:20240902T191221Z
UID:733-1730833200-1730835000@www.sophiainclusivecommunity.org
SUMMARY:Meditation
DESCRIPTION:Meditation
URL:https://www.sophiainclusivecommunity.org/event/meditation-10/
END:VEVENT
BEGIN:VEVENT
DTSTART;TZID=UTC:20241103T100000
DTEND;TZID=UTC:20241103T113000
DTSTAMP:20260421T082558
CREATED:20240902T190612Z
LAST-MODIFIED:20240902T190743Z
UID:727-1730628000-1730633400@www.sophiainclusivecommunity.org
SUMMARY:Sunday Liturgy
DESCRIPTION:Sunday Liturgy
URL:https://www.sophiainclusivecommunity.org/event/sunday-liturgy-31/
END:VEVENT
BEGIN:VEVENT
DTSTART;TZID=UTC:20241030T190000
DTEND;TZID=UTC:20241030T203000
DTSTAMP:20260421T082558
CREATED:20241029T170957Z
LAST-MODIFIED:20241029T170959Z
UID:810-1730314800-1730320200@www.sophiainclusivecommunity.org
SUMMARY:Faith Sharing
DESCRIPTION:Faith Sharing
URL:https://www.sophiainclusivecommunity.org/event/faith-sharing-5/
END:VEVENT
BEGIN:VEVENT
DTSTART;TZID=UTC:20241027T100000
DTEND;TZID=UTC:20241027T113000
DTSTAMP:20260421T082558
CREATED:20240902T190511Z
LAST-MODIFIED:20240902T190513Z
UID:725-1730023200-1730028600@www.sophiainclusivecommunity.org
SUMMARY:Sunday Liturgy
DESCRIPTION:Sunday Liturgy
URL:https://www.sophiainclusivecommunity.org/event/sunday-liturgy-30/
END:VEVENT
BEGIN:VEVENT
DTSTART;TZID=UTC:20241026T100000
DTEND;TZID=UTC:20241026T120000
DTSTAMP:20260421T082558
CREATED:20240902T191057Z
LAST-MODIFIED:20241002T234559Z
UID:731-1729936800-1729944000@www.sophiainclusivecommunity.org
SUMMARY:Rainbow Railroad Group Discussion 2
DESCRIPTION:Rainbow Railroad Group Discussion
URL:https://www.sophiainclusivecommunity.org/event/rainbow-railroad-group-discussion-2/
END:VEVENT
BEGIN:VEVENT
DTSTART;TZID=UTC:20241023T190000
DTEND;TZID=UTC:20241023T203000
DTSTAMP:20260421T082558
CREATED:20241002T233639Z
LAST-MODIFIED:20241003T000143Z
UID:784-1729710000-1729715400@www.sophiainclusivecommunity.org
SUMMARY:Book Discussion: A More Perfect Union- Part 1
DESCRIPTION:Book Discussion: A More Perfect Union- Part 1
URL:https://www.sophiainclusivecommunity.org/event/book-discussion-a-more-perfect-union-part-1/
ATTACH;FMTTYPE=image/jpeg:https://www.sophiainclusivecommunity.org/wp-content/uploads/2024/10/A-More-Perfect-Union-Book-Image.jpg
END:VEVENT
BEGIN:VEVENT
DTSTART;TZID=UTC:20241020T100000
DTEND;TZID=UTC:20241020T113000
DTSTAMP:20260421T082558
CREATED:20240902T190357Z
LAST-MODIFIED:20240902T190359Z
UID:723-1729418400-1729423800@www.sophiainclusivecommunity.org
SUMMARY:Sunday Liturgy
DESCRIPTION:Sunday Liturgy
URL:https://www.sophiainclusivecommunity.org/event/sunday-liturgy-29/
END:VEVENT
BEGIN:VEVENT
DTSTART;TZID=UTC:20241015T190000
DTEND;TZID=UTC:20241015T193000
DTSTAMP:20260421T082558
CREATED:20240902T190232Z
LAST-MODIFIED:20240902T190234Z
UID:721-1729018800-1729020600@www.sophiainclusivecommunity.org
SUMMARY:Meditation
DESCRIPTION:Meditation
URL:https://www.sophiainclusivecommunity.org/event/meditation-9/
END:VEVENT
BEGIN:VEVENT
DTSTART;TZID=UTC:20241011T140000
DTEND;TZID=UTC:20241013T120000
DTSTAMP:20260421T082558
CREATED:20240420T182822Z
LAST-MODIFIED:20241003T000809Z
UID:428-1728655200-1728820800@www.sophiainclusivecommunity.org
SUMMARY:Sophia Retreat
DESCRIPTION:
URL:https://www.sophiainclusivecommunity.org/event/sophia-retreat/
ATTACH;FMTTYPE=image/jpeg:https://www.sophiainclusivecommunity.org/wp-content/uploads/2024/04/Retreat-Center.jpg
END:VEVENT
BEGIN:VEVENT
DTSTART;TZID=UTC:20241006T100000
DTEND;TZID=UTC:20241006T113000
DTSTAMP:20260421T082558
CREATED:20240902T190102Z
LAST-MODIFIED:20240902T190104Z
UID:719-1728208800-1728214200@www.sophiainclusivecommunity.org
SUMMARY:Sunday Liturgy
DESCRIPTION:Sunday Liturgy
URL:https://www.sophiainclusivecommunity.org/event/sunday-liturgy-28/
END:VEVENT
BEGIN:VEVENT
DTSTART;TZID=UTC:20241003T190000
DTEND;TZID=UTC:20241003T203000
DTSTAMP:20260421T082558
CREATED:20240420T183230Z
LAST-MODIFIED:20240902T073401Z
UID:430-1727982000-1727987400@www.sophiainclusivecommunity.org
SUMMARY:Social Justice Presentation: Gun Control
DESCRIPTION:Social Justice Presentation: Gun Control with Angie Howard-McParland
URL:https://www.sophiainclusivecommunity.org/event/social-justice-presentation-3/
END:VEVENT
BEGIN:VEVENT
DTSTART;TZID=UTC:20241001T190000
DTEND;TZID=UTC:20241001T193000
DTSTAMP:20260421T082558
CREATED:20240902T073519Z
LAST-MODIFIED:20240902T073520Z
UID:709-1727809200-1727811000@www.sophiainclusivecommunity.org
SUMMARY:Meditation
DESCRIPTION:Meditation
URL:https://www.sophiainclusivecommunity.org/event/meditation-8/
END:VEVENT
BEGIN:VEVENT
DTSTART;TZID=UTC:20240929T100000
DTEND;TZID=UTC:20240929T113000
DTSTAMP:20260421T082558
CREATED:20240902T074234Z
LAST-MODIFIED:20240902T074236Z
UID:717-1727604000-1727609400@www.sophiainclusivecommunity.org
SUMMARY:Sunday Liturgy
DESCRIPTION:Sunday Liturgy
URL:https://www.sophiainclusivecommunity.org/event/sunday-liturgy-27/
END:VEVENT
BEGIN:VEVENT
DTSTART;TZID=UTC:20240922T100000
DTEND;TZID=UTC:20240922T113000
DTSTAMP:20260421T082558
CREATED:20240902T074133Z
LAST-MODIFIED:20240902T074135Z
UID:715-1726999200-1727004600@www.sophiainclusivecommunity.org
SUMMARY:Sunday Liturgy
DESCRIPTION:Sunday Liturgy
URL:https://www.sophiainclusivecommunity.org/event/sunday-liturgy-26/
END:VEVENT
BEGIN:VEVENT
DTSTART;TZID=UTC:20240918T190000
DTEND;TZID=UTC:20240918T203000
DTSTAMP:20260421T082558
CREATED:20240902T072740Z
LAST-MODIFIED:20240902T072741Z
UID:703-1726686000-1726691400@www.sophiainclusivecommunity.org
SUMMARY:Book Discussion: Newcomers Part 3
DESCRIPTION:Book Discussion: Newcomers Part 3
URL:https://www.sophiainclusivecommunity.org/event/book-discussion-newcomers-part-3/
END:VEVENT
BEGIN:VEVENT
DTSTART;TZID=UTC:20240917T190000
DTEND;TZID=UTC:20240917T193000
DTSTAMP:20260421T082558
CREATED:20240902T072601Z
LAST-MODIFIED:20240902T072603Z
UID:701-1726599600-1726601400@www.sophiainclusivecommunity.org
SUMMARY:Meditation
DESCRIPTION:Meditation
URL:https://www.sophiainclusivecommunity.org/event/meditation-7/
END:VEVENT
BEGIN:VEVENT
DTSTART;TZID=UTC:20240915T100000
DTEND;TZID=UTC:20240915T113000
DTSTAMP:20260421T082558
CREATED:20240902T073954Z
LAST-MODIFIED:20240902T073955Z
UID:713-1726394400-1726399800@www.sophiainclusivecommunity.org
SUMMARY:Sunday Liturgy
DESCRIPTION:Sunday Liturgy
URL:https://www.sophiainclusivecommunity.org/event/sunday-liturgy-25/
END:VEVENT
BEGIN:VEVENT
DTSTART;TZID=UTC:20240912T190000
DTEND;TZID=UTC:20240912T203000
DTSTAMP:20260421T082558
CREATED:20240902T072431Z
LAST-MODIFIED:20240902T072432Z
UID:699-1726167600-1726173000@www.sophiainclusivecommunity.org
SUMMARY:Rainbow Railroad Group Discussion
DESCRIPTION:Rainbow Railroad Group Discussion
URL:https://www.sophiainclusivecommunity.org/event/rainbow-railroad-group-discussion/
END:VEVENT
BEGIN:VEVENT
DTSTART;TZID=UTC:20240908T100000
DTEND;TZID=UTC:20240908T113000
DTSTAMP:20260421T082558
CREATED:20240902T073656Z
LAST-MODIFIED:20240902T073658Z
UID:711-1725789600-1725795000@www.sophiainclusivecommunity.org
SUMMARY:Sunday Liturgy
DESCRIPTION:Sunday Liturgy
URL:https://www.sophiainclusivecommunity.org/event/sunday-liturgy-24/
END:VEVENT
BEGIN:VEVENT
DTSTART;TZID=UTC:20240904T190000
DTEND;TZID=UTC:20240904T203000
DTSTAMP:20260421T082558
CREATED:20240902T072016Z
LAST-MODIFIED:20240902T072847Z
UID:697-1725476400-1725481800@www.sophiainclusivecommunity.org
SUMMARY:Book Discussion: Newcomers Part 2
DESCRIPTION:Book Discussion: Newcomers Part 2
URL:https://www.sophiainclusivecommunity.org/event/book-discussion-newcomers-part-2/
END:VEVENT
BEGIN:VEVENT
DTSTART;TZID=UTC:20240825T100000
DTEND;TZID=UTC:20240825T113000
DTSTAMP:20260421T082558
CREATED:20240722T203147Z
LAST-MODIFIED:20240722T203148Z
UID:662-1724580000-1724585400@www.sophiainclusivecommunity.org
SUMMARY:Sunday Liturgy
DESCRIPTION:Sunday Liturgy
URL:https://www.sophiainclusivecommunity.org/event/sunday-liturgy-23/
END:VEVENT
BEGIN:VEVENT
DTSTART;TZID=UTC:20240818T100000
DTEND;TZID=UTC:20240818T113000
DTSTAMP:20260421T082558
CREATED:20240722T203027Z
LAST-MODIFIED:20240722T203029Z
UID:660-1723975200-1723980600@www.sophiainclusivecommunity.org
SUMMARY:Sunday Liturgy
DESCRIPTION:Sunday Liturgy
URL:https://www.sophiainclusivecommunity.org/event/sunday-liturgy-22/
END:VEVENT
END:VCALENDAR