BEGIN:VCALENDAR
VERSION:2.0
PRODID:-//Sophia Inclusive Community - ECPv6.15.17//NONSGML v1.0//EN
CALSCALE:GREGORIAN
METHOD:PUBLISH
X-WR-CALNAME:Sophia Inclusive Community
X-ORIGINAL-URL:https://www.sophiainclusivecommunity.org
X-WR-CALDESC:Events for Sophia Inclusive Community
REFRESH-INTERVAL;VALUE=DURATION:PT1H
X-Robots-Tag:noindex
X-PUBLISHED-TTL:PT1H
BEGIN:VTIMEZONE
TZID:UTC
BEGIN:STANDARD
TZOFFSETFROM:+0000
TZOFFSETTO:+0000
TZNAME:UTC
DTSTART:20230101T000000
END:STANDARD
END:VTIMEZONE
BEGIN:VEVENT
DTSTART;TZID=UTC:20240512T100000
DTEND;TZID=UTC:20240512T113000
DTSTAMP:20260422T061548
CREATED:20240415T181414Z
LAST-MODIFIED:20240415T181604Z
UID:377-1715508000-1715513400@www.sophiainclusivecommunity.org
SUMMARY:Sunday Liturgy
DESCRIPTION:Zoom Liturgy
URL:https://www.sophiainclusivecommunity.org/event/sunday-liturgy-8/
END:VEVENT
BEGIN:VEVENT
DTSTART;TZID=UTC:20240507T190000
DTEND;TZID=UTC:20240507T193000
DTSTAMP:20260422T061548
CREATED:20240415T181114Z
LAST-MODIFIED:20240415T181115Z
UID:375-1715108400-1715110200@www.sophiainclusivecommunity.org
SUMMARY:Meditation
DESCRIPTION:Meditation
URL:https://www.sophiainclusivecommunity.org/event/meditation-3/
END:VEVENT
BEGIN:VEVENT
DTSTART;TZID=UTC:20240504T190000
DTEND;TZID=UTC:20240504T203000
DTSTAMP:20260422T061548
CREATED:20240320T204235Z
LAST-MODIFIED:20240320T204236Z
UID:343-1714849200-1714854600@www.sophiainclusivecommunity.org
SUMMARY:Weekend Liturgy
DESCRIPTION:Zoom Liturgy
URL:https://www.sophiainclusivecommunity.org/event/weekend-liturgy/
END:VEVENT
BEGIN:VEVENT
DTSTART;TZID=UTC:20240429T190000
DTEND;TZID=UTC:20240429T203000
DTSTAMP:20260422T061548
CREATED:20240415T184728Z
LAST-MODIFIED:20240415T184729Z
UID:392-1714417200-1714422600@www.sophiainclusivecommunity.org
SUMMARY:Movie Viewing- God & Country
DESCRIPTION:Movie Viewing- God & Country
URL:https://www.sophiainclusivecommunity.org/event/movie-viewing-god-country/
END:VEVENT
BEGIN:VEVENT
DTSTART;TZID=UTC:20240428T100000
DTEND;TZID=UTC:20240428T113000
DTSTAMP:20260422T061548
CREATED:20240315T180014Z
LAST-MODIFIED:20240315T180015Z
UID:326-1714298400-1714303800@www.sophiainclusivecommunity.org
SUMMARY:Sunday Liturgy
DESCRIPTION:Zoom Liturgy
URL:https://www.sophiainclusivecommunity.org/event/sunday-liturgy-7/
END:VEVENT
BEGIN:VEVENT
DTSTART;TZID=UTC:20240424T190000
DTEND;TZID=UTC:20240424T203000
DTSTAMP:20260422T061548
CREATED:20240415T180608Z
LAST-MODIFIED:20240415T180609Z
UID:373-1713985200-1713990600@www.sophiainclusivecommunity.org
SUMMARY:Faith Sharing
DESCRIPTION:Faith Sharing
URL:https://www.sophiainclusivecommunity.org/event/faith-sharing-2/
END:VEVENT
BEGIN:VEVENT
DTSTART;TZID=UTC:20240421T100000
DTEND;TZID=UTC:20240421T113000
DTSTAMP:20260422T061548
CREATED:20240315T175700Z
LAST-MODIFIED:20240315T175701Z
UID:321-1713693600-1713699000@www.sophiainclusivecommunity.org
SUMMARY:Sunday Liturgy
DESCRIPTION:Zoom Liturgy
URL:https://www.sophiainclusivecommunity.org/event/sunday-liturgy-6/
END:VEVENT
BEGIN:VEVENT
DTSTART;TZID=UTC:20240417T190000
DTEND;TZID=UTC:20240417T203000
DTSTAMP:20260422T061548
CREATED:20240415T184227Z
LAST-MODIFIED:20240415T184228Z
UID:390-1713380400-1713385800@www.sophiainclusivecommunity.org
SUMMARY:Book Discussion- The Power Worshippers
DESCRIPTION:Book Discussion- The Power Worshippers\, Chapters 4-6
URL:https://www.sophiainclusivecommunity.org/event/book-discussion-the-power-worshippers/
END:VEVENT
BEGIN:VEVENT
DTSTART;TZID=UTC:20240414T100000
DTEND;TZID=UTC:20240414T113000
DTSTAMP:20260422T061548
CREATED:20240311T000800Z
LAST-MODIFIED:20240311T000801Z
UID:296-1713088800-1713094200@www.sophiainclusivecommunity.org
SUMMARY:Sunday Liturgy
DESCRIPTION:Zoom Liturgy
URL:https://www.sophiainclusivecommunity.org/event/sunday-liturgy-4/
END:VEVENT
BEGIN:VEVENT
DTSTART;TZID=UTC:20240407T100000
DTEND;TZID=UTC:20240407T113000
DTSTAMP:20260422T061548
CREATED:20240311T001204Z
LAST-MODIFIED:20240311T001214Z
UID:298-1712484000-1712489400@www.sophiainclusivecommunity.org
SUMMARY:Sunday Liturgy
DESCRIPTION:Zoom Liturgy
URL:https://www.sophiainclusivecommunity.org/event/sunday-liturgy-5/
END:VEVENT
BEGIN:VEVENT
DTSTART;TZID=UTC:20240404T190000
DTEND;TZID=UTC:20240404T203000
DTSTAMP:20260422T061548
CREATED:20240315T174959Z
LAST-MODIFIED:20240315T175000Z
UID:319-1712257200-1712262600@www.sophiainclusivecommunity.org
SUMMARY:Social Justice Presentation
DESCRIPTION:Learning about the Transgender Experience Part Two
URL:https://www.sophiainclusivecommunity.org/event/social-justice-presentation-2/
END:VEVENT
BEGIN:VEVENT
DTSTART;TZID=UTC:20240330T190000
DTEND;TZID=UTC:20240330T203000
DTSTAMP:20260422T061548
CREATED:20240310T235921Z
LAST-MODIFIED:20240310T235922Z
UID:292-1711825200-1711830600@www.sophiainclusivecommunity.org
SUMMARY:Easter Vigil
DESCRIPTION:Easter Vigil Zoom Liturgy
URL:https://www.sophiainclusivecommunity.org/event/easter-vigil/
END:VEVENT
BEGIN:VEVENT
DTSTART;TZID=UTC:20240329T190000
DTEND;TZID=UTC:20240329T203000
DTSTAMP:20260422T061548
CREATED:20240310T235800Z
LAST-MODIFIED:20240310T235801Z
UID:290-1711738800-1711744200@www.sophiainclusivecommunity.org
SUMMARY:Good Friday
DESCRIPTION:Good Friday Zoom Liturgy
URL:https://www.sophiainclusivecommunity.org/event/good-friday/
END:VEVENT
BEGIN:VEVENT
DTSTART;TZID=UTC:20240328T190000
DTEND;TZID=UTC:20240328T203000
DTSTAMP:20260422T061548
CREATED:20240310T235621Z
LAST-MODIFIED:20240310T235623Z
UID:288-1711652400-1711657800@www.sophiainclusivecommunity.org
SUMMARY:Holy Thursday
DESCRIPTION:
URL:https://www.sophiainclusivecommunity.org/event/holy-thursday/
END:VEVENT
BEGIN:VEVENT
DTSTART;TZID=UTC:20240327T190000
DTEND;TZID=UTC:20240327T203000
DTSTAMP:20260422T061548
CREATED:20240228T023524Z
LAST-MODIFIED:20240228T023525Z
UID:270-1711566000-1711571400@www.sophiainclusivecommunity.org
SUMMARY:Faith Sharing
DESCRIPTION:
URL:https://www.sophiainclusivecommunity.org/event/faith-sharing/
END:VEVENT
BEGIN:VEVENT
DTSTART;TZID=UTC:20240324T100000
DTEND;TZID=UTC:20240324T113000
DTSTAMP:20260422T061548
CREATED:20240228T024223Z
LAST-MODIFIED:20240228T024224Z
UID:278-1711274400-1711279800@www.sophiainclusivecommunity.org
SUMMARY:Sunday Liturgy
DESCRIPTION:
URL:https://www.sophiainclusivecommunity.org/event/sunday-liturgy-3/
END:VEVENT
BEGIN:VEVENT
DTSTART;TZID=UTC:20240321T190000
DTEND;TZID=UTC:20240321T203000
DTSTAMP:20260422T061548
CREATED:20240228T024049Z
LAST-MODIFIED:20240315T174755Z
UID:276-1711047600-1711053000@www.sophiainclusivecommunity.org
SUMMARY:Social Justice Presentation
DESCRIPTION:Learning about the Transgender Experience Part One
URL:https://www.sophiainclusivecommunity.org/event/social-justice-presentation/
END:VEVENT
BEGIN:VEVENT
DTSTART;TZID=UTC:20240319T190000
DTEND;TZID=UTC:20240319T193000
DTSTAMP:20260422T061548
CREATED:20240317T200021Z
LAST-MODIFIED:20240317T200022Z
UID:332-1710874800-1710876600@www.sophiainclusivecommunity.org
SUMMARY:Meditation
DESCRIPTION:You can join as early as 6:30 pm
URL:https://www.sophiainclusivecommunity.org/event/meditation-4/
END:VEVENT
BEGIN:VEVENT
DTSTART;TZID=UTC:20240319T190000
DTEND;TZID=UTC:20240319T193000
DTSTAMP:20260422T061548
CREATED:20240228T023828Z
LAST-MODIFIED:20240317T200213Z
UID:274-1710874800-1710876600@www.sophiainclusivecommunity.org
SUMMARY:
DESCRIPTION:
URL:https://www.sophiainclusivecommunity.org/event/meditation-2/
END:VEVENT
BEGIN:VEVENT
DTSTART;TZID=UTC:20240317T100000
DTEND;TZID=UTC:20240317T113000
DTSTAMP:20260422T061548
CREATED:20240227T221730Z
LAST-MODIFIED:20240227T223757Z
UID:258-1710669600-1710675000@www.sophiainclusivecommunity.org
SUMMARY:Liturgy
DESCRIPTION:Liturgy
URL:https://www.sophiainclusivecommunity.org/event/258/
END:VEVENT
BEGIN:VEVENT
DTSTART;TZID=UTC:20240310T100000
DTEND;TZID=UTC:20240310T113000
DTSTAMP:20260422T061548
CREATED:20240227T220816Z
LAST-MODIFIED:20240227T224144Z
UID:256-1710064800-1710070200@www.sophiainclusivecommunity.org
SUMMARY:Liturgy
DESCRIPTION:
URL:https://www.sophiainclusivecommunity.org/event/liturgy-2/
ATTACH;FMTTYPE=image/jpeg:https://www.sophiainclusivecommunity.org/wp-content/uploads/2024/02/SOPHIA-LOGO-jpg-2.jpg
END:VEVENT
BEGIN:VEVENT
DTSTART;TZID=UTC:20240305T190000
DTEND;TZID=UTC:20240305T193000
DTSTAMP:20260422T061548
CREATED:20240228T023748Z
LAST-MODIFIED:20240228T023749Z
UID:272-1709665200-1709667000@www.sophiainclusivecommunity.org
SUMMARY:Meditation
DESCRIPTION:
URL:https://www.sophiainclusivecommunity.org/event/meditation/
END:VEVENT
BEGIN:VEVENT
DTSTART;TZID=UTC:20240303T100000
DTEND;TZID=UTC:20240303T113000
DTSTAMP:20260422T061548
CREATED:20240227T215322Z
LAST-MODIFIED:20240227T215323Z
UID:252-1709460000-1709465400@www.sophiainclusivecommunity.org
SUMMARY:Liturgy
DESCRIPTION:
URL:https://www.sophiainclusivecommunity.org/event/liturgy/
END:VEVENT
BEGIN:VEVENT
DTSTART;TZID=UTC:20240228T190000
DTEND;TZID=UTC:20240228T203000
DTSTAMP:20260422T061548
CREATED:20240228T023230Z
LAST-MODIFIED:20240228T023339Z
UID:267-1709146800-1709152200@www.sophiainclusivecommunity.org
SUMMARY:Faith Sharing
DESCRIPTION:
URL:https://www.sophiainclusivecommunity.org/event/faith-sharin/
END:VEVENT
BEGIN:VEVENT
DTSTART;TZID=UTC:20240218T100000
DTEND;TZID=UTC:20240218T113000
DTSTAMP:20260422T061548
CREATED:20240213T215355Z
LAST-MODIFIED:20240213T215355Z
UID:90-1708250400-1708255800@www.sophiainclusivecommunity.org
SUMMARY:Sunday Liturgy
DESCRIPTION:
URL:https://www.sophiainclusivecommunity.org/event/sunday-liturgy/
LOCATION:Online
END:VEVENT
END:VCALENDAR