BEGIN:VCALENDAR
VERSION:2.0
PRODID:-//Sophia Inclusive Community - ECPv6.15.17//NONSGML v1.0//EN
CALSCALE:GREGORIAN
METHOD:PUBLISH
X-WR-CALNAME:Sophia Inclusive Community
X-ORIGINAL-URL:https://www.sophiainclusivecommunity.org
X-WR-CALDESC:Events for Sophia Inclusive Community
REFRESH-INTERVAL;VALUE=DURATION:PT1H
X-Robots-Tag:noindex
X-PUBLISHED-TTL:PT1H
BEGIN:VTIMEZONE
TZID:UTC
BEGIN:STANDARD
TZOFFSETFROM:+0000
TZOFFSETTO:+0000
TZNAME:UTC
DTSTART:20230101T000000
END:STANDARD
END:VTIMEZONE
BEGIN:VEVENT
DTSTART;TZID=UTC:20240811T100000
DTEND;TZID=UTC:20240811T113000
DTSTAMP:20260422T031035
CREATED:20240702T153310Z
LAST-MODIFIED:20240702T153311Z
UID:595-1723370400-1723375800@www.sophiainclusivecommunity.org
SUMMARY:Sunday Liturgy
DESCRIPTION:Sunday Liturgy
URL:https://www.sophiainclusivecommunity.org/event/sunday-liturgy-21/
END:VEVENT
BEGIN:VEVENT
DTSTART;TZID=UTC:20240804T100000
DTEND;TZID=UTC:20240804T113000
DTSTAMP:20260422T031035
CREATED:20240702T152856Z
LAST-MODIFIED:20240702T152857Z
UID:593-1722765600-1722771000@www.sophiainclusivecommunity.org
SUMMARY:Sunday Liturgy
DESCRIPTION:Sunday Liturgy
URL:https://www.sophiainclusivecommunity.org/event/sunday-liturgy-20/
END:VEVENT
BEGIN:VEVENT
DTSTART;TZID=UTC:20240731T190000
DTEND;TZID=UTC:20240731T203000
DTSTAMP:20260422T031035
CREATED:20240722T202521Z
LAST-MODIFIED:20240722T202626Z
UID:658-1722452400-1722457800@www.sophiainclusivecommunity.org
SUMMARY:Killers of the Flower Moon Book Discussion
DESCRIPTION:Killers of the Flower Moon Book Discussion- Chronicle 3- The Reporter
URL:https://www.sophiainclusivecommunity.org/event/killers-of-the-flower-moon-book-discussion-2/
ATTACH;FMTTYPE=image/jpeg:https://www.sophiainclusivecommunity.org/wp-content/uploads/2024/06/Killers-of-the-Flower-Moon-Book-Image.jpg
END:VEVENT
BEGIN:VEVENT
DTSTART;TZID=UTC:20240728T100000
DTEND;TZID=UTC:20240728T113000
DTSTAMP:20260422T031035
CREATED:20240420T182635Z
LAST-MODIFIED:20240420T182636Z
UID:426-1722160800-1722166200@www.sophiainclusivecommunity.org
SUMMARY:Sunday Liturgy
DESCRIPTION:
URL:https://www.sophiainclusivecommunity.org/event/sunday-liturgy-19/
END:VEVENT
BEGIN:VEVENT
DTSTART;TZID=UTC:20240725T190000
DTEND;TZID=UTC:20240725T203000
DTSTAMP:20260422T031035
CREATED:20240420T181857Z
LAST-MODIFIED:20240722T204311Z
UID:417-1721934000-1721939400@www.sophiainclusivecommunity.org
SUMMARY:Social Justice Presentation: Reparations
DESCRIPTION:
URL:https://www.sophiainclusivecommunity.org/event/social-justice-presentation-reparations/
ATTACH;FMTTYPE=image/jpeg:https://www.sophiainclusivecommunity.org/wp-content/uploads/2024/07/Reparations.jpg
END:VEVENT
BEGIN:VEVENT
DTSTART;TZID=UTC:20240721T100000
DTEND;TZID=UTC:20240721T113000
DTSTAMP:20260422T031035
CREATED:20240420T182546Z
LAST-MODIFIED:20240420T182547Z
UID:424-1721556000-1721561400@www.sophiainclusivecommunity.org
SUMMARY:Sunday Liturgy
DESCRIPTION:
URL:https://www.sophiainclusivecommunity.org/event/sunday-liturgy-18/
END:VEVENT
BEGIN:VEVENT
DTSTART;TZID=UTC:20240714T100000
DTEND;TZID=UTC:20240714T113000
DTSTAMP:20260422T031035
CREATED:20240420T182502Z
LAST-MODIFIED:20240420T182503Z
UID:422-1720951200-1720956600@www.sophiainclusivecommunity.org
SUMMARY:Sunday Liturgy
DESCRIPTION:
URL:https://www.sophiainclusivecommunity.org/event/sunday-liturgy-17/
END:VEVENT
BEGIN:VEVENT
DTSTART;TZID=UTC:20240710T190000
DTEND;TZID=UTC:20240710T203000
DTSTAMP:20260422T031035
CREATED:20240617T233741Z
LAST-MODIFIED:20240702T154952Z
UID:569-1720638000-1720643400@www.sophiainclusivecommunity.org
SUMMARY:Killers of the Flower Moon Book Discussion
DESCRIPTION:Killers of the Flower Moon Book Discussion- Chronicle 2: The Evidence Man
URL:https://www.sophiainclusivecommunity.org/event/killers-of-the-flower-moon-book-discussion-3/
ATTACH;FMTTYPE=image/jpeg:https://www.sophiainclusivecommunity.org/wp-content/uploads/2024/06/Killers-of-the-Flower-Moon-Book-Image.jpg
END:VEVENT
BEGIN:VEVENT
DTSTART;TZID=UTC:20240707T100000
DTEND;TZID=UTC:20240707T113000
DTSTAMP:20260422T031035
CREATED:20240617T234000Z
LAST-MODIFIED:20240617T234002Z
UID:571-1720346400-1720351800@www.sophiainclusivecommunity.org
SUMMARY:Sunday Liturgy
DESCRIPTION:Sunday Liturgy
URL:https://www.sophiainclusivecommunity.org/event/sunday-liturgy-16/
END:VEVENT
BEGIN:VEVENT
DTSTART;TZID=UTC:20240630T100000
DTEND;TZID=UTC:20240630T113000
DTSTAMP:20260422T031035
CREATED:20240415T191245Z
LAST-MODIFIED:20240617T232940Z
UID:409-1719741600-1719747000@www.sophiainclusivecommunity.org
SUMMARY:Sunday Liturgy
DESCRIPTION:
URL:https://www.sophiainclusivecommunity.org/event/sunday-liturgy-15/
ATTACH;FMTTYPE=image/jpeg:https://www.sophiainclusivecommunity.org/wp-content/uploads/2024/06/Picture6.jpg
END:VEVENT
BEGIN:VEVENT
DTSTART;TZID=UTC:20240629T110000
DTEND;TZID=UTC:20240629T123000
DTSTAMP:20260422T031035
CREATED:20240415T190536Z
LAST-MODIFIED:20240609T223629Z
UID:399-1719658800-1719664200@www.sophiainclusivecommunity.org
SUMMARY:Faith Sharing
DESCRIPTION:Faith Sharing
URL:https://www.sophiainclusivecommunity.org/event/faith-sharing-4/
END:VEVENT
BEGIN:VEVENT
DTSTART;TZID=UTC:20240623T100000
DTEND;TZID=UTC:20240623T113000
DTSTAMP:20260422T031035
CREATED:20240415T191134Z
LAST-MODIFIED:20240617T232856Z
UID:407-1719136800-1719142200@www.sophiainclusivecommunity.org
SUMMARY:Sunday Liturgy
DESCRIPTION:Zoom Liturgy \n\n\n\n\n\n\n\n\n\n\n\n\n\nSunday Liturgy\n\n\n\n	April 2026\n	\n	\n		S\n		M\n		T\n		W\n		T\n		F\n		S\n	\n	\n	\n	\n		 1234\n	\n	\n		567891011\n	\n	\n		12131415161718\n	\n	\n		19202122232425\n	\n	\n		2627282930\n		 \n	\n	\n	\n		« Jan\n		 \n		 \n	\n\n\n	April 2026\n	\n	\n		S\n		M\n		T\n		W\n		T\n		F\n		S\n	\n	\n	\n	\n		 1234\n	\n	\n		567891011\n	\n	\n		12131415161718\n	\n	\n		19202122232425\n	\n	\n		2627282930\n		 \n	\n	\n	\n		« Jan\n		 \n		 \n	\n\n\n	April 2026\n	\n	\n		S\n		M\n		T\n		W\n		T\n		F\n		S\n	\n	\n	\n	\n		 1234\n	\n	\n		567891011\n	\n	\n		12131415161718\n	\n	\n		19202122232425\n	\n	\n		2627282930\n		 \n	\n	\n	\n		« Jan\n		 \n		 
URL:https://www.sophiainclusivecommunity.org/event/sunday-liturgy-14/
ATTACH;FMTTYPE=image/jpeg:https://www.sophiainclusivecommunity.org/wp-content/uploads/2024/06/Picture6.jpg
END:VEVENT
BEGIN:VEVENT
DTSTART;TZID=UTC:20240619T190000
DTEND;TZID=UTC:20240619T203000
DTSTAMP:20260422T031035
CREATED:20240617T211435Z
LAST-MODIFIED:20240617T213941Z
UID:551-1718823600-1718829000@www.sophiainclusivecommunity.org
SUMMARY:Killers of the Flower Moon Book Discussion
DESCRIPTION:Killers of the Flower Moon Book Discussion- Chronicle 1: The Marked Woman
URL:https://www.sophiainclusivecommunity.org/event/killers-of-the-flower-moon-book-discussion/
ATTACH;FMTTYPE=image/jpeg:https://www.sophiainclusivecommunity.org/wp-content/uploads/2024/06/Killers-of-the-Flower-Moon-Book-Image.jpg
END:VEVENT
BEGIN:VEVENT
DTSTART;TZID=UTC:20240616T100000
DTEND;TZID=UTC:20240616T113000
DTSTAMP:20260422T031035
CREATED:20240415T191029Z
LAST-MODIFIED:20240415T191030Z
UID:405-1718532000-1718537400@www.sophiainclusivecommunity.org
SUMMARY:Sunday Liturgy
DESCRIPTION:Zoom Liturgy
URL:https://www.sophiainclusivecommunity.org/event/sunday-liturgy-13/
END:VEVENT
BEGIN:VEVENT
DTSTART;TZID=UTC:20240609T100000
DTEND;TZID=UTC:20240609T113000
DTSTAMP:20260422T031035
CREATED:20240609T155332Z
LAST-MODIFIED:20240609T155420Z
UID:499-1717927200-1717932600@www.sophiainclusivecommunity.org
SUMMARY:
DESCRIPTION:Weekly Liturgy
URL:https://www.sophiainclusivecommunity.org/event/499/
END:VEVENT
BEGIN:VEVENT
DTSTART;TZID=UTC:20240609T100000
DTEND;TZID=UTC:20240609T113000
DTSTAMP:20260422T031035
CREATED:20240415T190852Z
LAST-MODIFIED:20240415T190854Z
UID:403-1717927200-1717932600@www.sophiainclusivecommunity.org
SUMMARY:Sunday Liturgy
DESCRIPTION:Zoom Liturgy
URL:https://www.sophiainclusivecommunity.org/event/sunday-liturgy-12/
END:VEVENT
BEGIN:VEVENT
DTSTART;TZID=UTC:20240604T190000
DTEND;TZID=UTC:20240604T193000
DTSTAMP:20260422T031035
CREATED:20240415T190313Z
LAST-MODIFIED:20240415T190315Z
UID:397-1717527600-1717529400@www.sophiainclusivecommunity.org
SUMMARY:Meditation
DESCRIPTION:Meditation
URL:https://www.sophiainclusivecommunity.org/event/meditation-6/
END:VEVENT
BEGIN:VEVENT
DTSTART;TZID=UTC:20240602T100000
DTEND;TZID=UTC:20240602T113000
DTSTAMP:20260422T031035
CREATED:20240415T190158Z
LAST-MODIFIED:20240415T190159Z
UID:395-1717322400-1717327800@www.sophiainclusivecommunity.org
SUMMARY:Sunday Liturgy
DESCRIPTION:Zoom Liturgy
URL:https://www.sophiainclusivecommunity.org/event/sunday-liturgy-11/
END:VEVENT
BEGIN:VEVENT
DTSTART;TZID=UTC:20240526T100000
DTEND;TZID=UTC:20240526T113000
DTSTAMP:20260422T031035
CREATED:20240415T182038Z
LAST-MODIFIED:20240415T182039Z
UID:382-1716717600-1716723000@www.sophiainclusivecommunity.org
SUMMARY:Sunday Liturgy
DESCRIPTION:Zoom Liturgy
URL:https://www.sophiainclusivecommunity.org/event/sunday-liturgy-10/
END:VEVENT
BEGIN:VEVENT
DTSTART;TZID=UTC:20240522T190000
DTEND;TZID=UTC:20240522T203000
DTSTAMP:20260422T031035
CREATED:20240415T182458Z
LAST-MODIFIED:20240415T182459Z
UID:386-1716404400-1716409800@www.sophiainclusivecommunity.org
SUMMARY:Faith Sharing
DESCRIPTION:Faith Sharing
URL:https://www.sophiainclusivecommunity.org/event/faith-sharing-3/
END:VEVENT
BEGIN:VEVENT
DTSTART;TZID=UTC:20240521T190000
DTEND;TZID=UTC:20240521T193000
DTSTAMP:20260422T031035
CREATED:20240415T182209Z
LAST-MODIFIED:20240415T182211Z
UID:384-1716318000-1716319800@www.sophiainclusivecommunity.org
SUMMARY:Meditation
DESCRIPTION:Meditation
URL:https://www.sophiainclusivecommunity.org/event/meditation-5/
END:VEVENT
BEGIN:VEVENT
DTSTART;TZID=UTC:20240519T100000
DTEND;TZID=UTC:20240519T113000
DTSTAMP:20260422T031035
CREATED:20240415T181734Z
LAST-MODIFIED:20240415T181759Z
UID:380-1716112800-1716118200@www.sophiainclusivecommunity.org
SUMMARY:Sunday Liturgy
DESCRIPTION:Zoom Liturgy
URL:https://www.sophiainclusivecommunity.org/event/sunday-liturgy-9/
END:VEVENT
BEGIN:VEVENT
DTSTART;TZID=UTC:20240516T190000
DTEND;TZID=UTC:20240516T203000
DTSTAMP:20260422T031035
CREATED:20240428T201941Z
LAST-MODIFIED:20240428T201943Z
UID:434-1715886000-1715891400@www.sophiainclusivecommunity.org
SUMMARY:Social Justice Presentation: Rainbow Railroad
DESCRIPTION:
URL:https://www.sophiainclusivecommunity.org/event/social-justice-presentation-rainbow-railroad/
END:VEVENT
BEGIN:VEVENT
DTSTART;TZID=UTC:20240515T190000
DTEND;TZID=UTC:20240515T203000
DTSTAMP:20260422T031035
CREATED:20240420T181250Z
LAST-MODIFIED:20240420T181251Z
UID:411-1715799600-1715805000@www.sophiainclusivecommunity.org
SUMMARY:Book Discussion
DESCRIPTION:Power Worshippers
URL:https://www.sophiainclusivecommunity.org/event/book-discussion/
END:VEVENT
BEGIN:VEVENT
DTSTART;TZID=UTC:20240512T100000
DTEND;TZID=UTC:20240512T113000
DTSTAMP:20260422T031035
CREATED:20240415T181414Z
LAST-MODIFIED:20240415T181604Z
UID:377-1715508000-1715513400@www.sophiainclusivecommunity.org
SUMMARY:Sunday Liturgy
DESCRIPTION:Zoom Liturgy
URL:https://www.sophiainclusivecommunity.org/event/sunday-liturgy-8/
END:VEVENT
BEGIN:VEVENT
DTSTART;TZID=UTC:20240507T190000
DTEND;TZID=UTC:20240507T193000
DTSTAMP:20260422T031035
CREATED:20240415T181114Z
LAST-MODIFIED:20240415T181115Z
UID:375-1715108400-1715110200@www.sophiainclusivecommunity.org
SUMMARY:Meditation
DESCRIPTION:Meditation
URL:https://www.sophiainclusivecommunity.org/event/meditation-3/
END:VEVENT
BEGIN:VEVENT
DTSTART;TZID=UTC:20240504T190000
DTEND;TZID=UTC:20240504T203000
DTSTAMP:20260422T031035
CREATED:20240320T204235Z
LAST-MODIFIED:20240320T204236Z
UID:343-1714849200-1714854600@www.sophiainclusivecommunity.org
SUMMARY:Weekend Liturgy
DESCRIPTION:Zoom Liturgy
URL:https://www.sophiainclusivecommunity.org/event/weekend-liturgy/
END:VEVENT
BEGIN:VEVENT
DTSTART;TZID=UTC:20240429T190000
DTEND;TZID=UTC:20240429T203000
DTSTAMP:20260422T031035
CREATED:20240415T184728Z
LAST-MODIFIED:20240415T184729Z
UID:392-1714417200-1714422600@www.sophiainclusivecommunity.org
SUMMARY:Movie Viewing- God & Country
DESCRIPTION:Movie Viewing- God & Country
URL:https://www.sophiainclusivecommunity.org/event/movie-viewing-god-country/
END:VEVENT
BEGIN:VEVENT
DTSTART;TZID=UTC:20240428T100000
DTEND;TZID=UTC:20240428T113000
DTSTAMP:20260422T031035
CREATED:20240315T180014Z
LAST-MODIFIED:20240315T180015Z
UID:326-1714298400-1714303800@www.sophiainclusivecommunity.org
SUMMARY:Sunday Liturgy
DESCRIPTION:Zoom Liturgy
URL:https://www.sophiainclusivecommunity.org/event/sunday-liturgy-7/
END:VEVENT
BEGIN:VEVENT
DTSTART;TZID=UTC:20240424T190000
DTEND;TZID=UTC:20240424T203000
DTSTAMP:20260422T031035
CREATED:20240415T180608Z
LAST-MODIFIED:20240415T180609Z
UID:373-1713985200-1713990600@www.sophiainclusivecommunity.org
SUMMARY:Faith Sharing
DESCRIPTION:Faith Sharing
URL:https://www.sophiainclusivecommunity.org/event/faith-sharing-2/
END:VEVENT
END:VCALENDAR