BEGIN:VCALENDAR
VERSION:2.0
PRODID:-//Sophia Inclusive Community - ECPv6.15.17//NONSGML v1.0//EN
CALSCALE:GREGORIAN
METHOD:PUBLISH
X-ORIGINAL-URL:https://www.sophiainclusivecommunity.org
X-WR-CALDESC:Events for Sophia Inclusive Community
REFRESH-INTERVAL;VALUE=DURATION:PT1H
X-Robots-Tag:noindex
X-PUBLISHED-TTL:PT1H
BEGIN:VTIMEZONE
TZID:UTC
BEGIN:STANDARD
TZOFFSETFROM:+0000
TZOFFSETTO:+0000
TZNAME:UTC
DTSTART:20240101T000000
END:STANDARD
END:VTIMEZONE
BEGIN:VEVENT
DTSTART;TZID=UTC:20250202T100000
DTEND;TZID=UTC:20250202T113000
DTSTAMP:20260421T173637
CREATED:20241231T060529Z
LAST-MODIFIED:20241231T060913Z
UID:848-1738490400-1738495800@www.sophiainclusivecommunity.org
SUMMARY:Sunday Liturgy & Planning Meeting
DESCRIPTION:Sunday Liturgy & Planning Meeting
URL:https://www.sophiainclusivecommunity.org/event/sunday-liturgy-42/
END:VEVENT
BEGIN:VEVENT
DTSTART;TZID=UTC:20250204T190000
DTEND;TZID=UTC:20250204T193000
DTSTAMP:20260421T173637
CREATED:20241231T061559Z
LAST-MODIFIED:20241231T061601Z
UID:867-1738695600-1738697400@www.sophiainclusivecommunity.org
SUMMARY:Meditation
DESCRIPTION:Meditation
URL:https://www.sophiainclusivecommunity.org/event/meditation-16/
END:VEVENT
BEGIN:VEVENT
DTSTART;TZID=UTC:20250209T100000
DTEND;TZID=UTC:20250209T113000
DTSTAMP:20260421T173637
CREATED:20241231T060622Z
LAST-MODIFIED:20241231T060625Z
UID:850-1739095200-1739100600@www.sophiainclusivecommunity.org
SUMMARY:Sunday Liturgy
DESCRIPTION:Sunday Liturgy
URL:https://www.sophiainclusivecommunity.org/event/sunday-liturgy-43/
END:VEVENT
BEGIN:VEVENT
DTSTART;TZID=UTC:20250216T100000
DTEND;TZID=UTC:20250216T113000
DTSTAMP:20260421T173637
CREATED:20241231T060710Z
LAST-MODIFIED:20241231T060714Z
UID:852-1739700000-1739705400@www.sophiainclusivecommunity.org
SUMMARY:Sunday Liturgy
DESCRIPTION:Sunday Liturgy
URL:https://www.sophiainclusivecommunity.org/event/sunday-liturgy-44/
END:VEVENT
BEGIN:VEVENT
DTSTART;TZID=UTC:20250218T190000
DTEND;TZID=UTC:20250218T193000
DTSTAMP:20260421T173637
CREATED:20241231T061645Z
LAST-MODIFIED:20241231T061647Z
UID:869-1739905200-1739907000@www.sophiainclusivecommunity.org
SUMMARY:Meditation
DESCRIPTION:Meditation
URL:https://www.sophiainclusivecommunity.org/event/meditation-17/
END:VEVENT
BEGIN:VEVENT
DTSTART;TZID=UTC:20250223T100000
DTEND;TZID=UTC:20250223T113000
DTSTAMP:20260421T173637
CREATED:20241231T060754Z
LAST-MODIFIED:20241231T060758Z
UID:854-1740304800-1740310200@www.sophiainclusivecommunity.org
SUMMARY:Sunday Liturgy
DESCRIPTION:Sunday Liturgy
URL:https://www.sophiainclusivecommunity.org/event/sunday-liturgy-45/
END:VEVENT
BEGIN:VEVENT
DTSTART;TZID=UTC:20250226T190000
DTEND;TZID=UTC:20250226T203000
DTSTAMP:20260421T173637
CREATED:20241231T061806Z
LAST-MODIFIED:20241231T061808Z
UID:871-1740596400-1740601800@www.sophiainclusivecommunity.org
SUMMARY:Faith Sharing
DESCRIPTION:Faith Sharing
URL:https://www.sophiainclusivecommunity.org/event/faith-sharing-6/
END:VEVENT
END:VCALENDAR