BEGIN:VCALENDAR
VERSION:2.0
PRODID:-//Sophia Inclusive Community - ECPv6.15.17//NONSGML v1.0//EN
CALSCALE:GREGORIAN
METHOD:PUBLISH
X-ORIGINAL-URL:https://www.sophiainclusivecommunity.org
X-WR-CALDESC:Events for Sophia Inclusive Community
REFRESH-INTERVAL;VALUE=DURATION:PT1H
X-Robots-Tag:noindex
X-PUBLISHED-TTL:PT1H
BEGIN:VTIMEZONE
TZID:UTC
BEGIN:STANDARD
TZOFFSETFROM:+0000
TZOFFSETTO:+0000
TZNAME:UTC
DTSTART:20240101T000000
END:STANDARD
END:VTIMEZONE
BEGIN:VEVENT
DTSTART;TZID=UTC:20250302T100000
DTEND;TZID=UTC:20250302T113000
DTSTAMP:20260421T143127
CREATED:20241231T061128Z
LAST-MODIFIED:20241231T061129Z
UID:857-1740909600-1740915000@www.sophiainclusivecommunity.org
SUMMARY:Sunday Liturgy & Planning Meeting
DESCRIPTION:Sunday Liturgy & Planning Meeting
URL:https://www.sophiainclusivecommunity.org/event/sunday-liturgy-planning-meeting/
END:VEVENT
BEGIN:VEVENT
DTSTART;TZID=UTC:20250305T190000
DTEND;TZID=UTC:20250305T203000
DTSTAMP:20260421T143127
CREATED:20250202T220908Z
LAST-MODIFIED:20250202T221928Z
UID:895-1741201200-1741206600@www.sophiainclusivecommunity.org
SUMMARY:Book Discussion- It's Time.: Challenges to the Doctrine of the Faith
DESCRIPTION:Book Discussion- It’s Time.: Challenges to the Doctrine of the Faith
URL:https://www.sophiainclusivecommunity.org/event/book-discussion-its-time-challenges-to-the-doctrine-of-the-faith/
ATTACH;FMTTYPE=image/jpeg:https://www.sophiainclusivecommunity.org/wp-content/uploads/2024/12/Its-Time-Book.jpg
END:VEVENT
BEGIN:VEVENT
DTSTART;TZID=UTC:20250309T100000
DTEND;TZID=UTC:20250309T113000
DTSTAMP:20260421T143127
CREATED:20241231T061217Z
LAST-MODIFIED:20241231T061220Z
UID:859-1741514400-1741519800@www.sophiainclusivecommunity.org
SUMMARY:Sunday Liturgy
DESCRIPTION:Sunday Liturgy
URL:https://www.sophiainclusivecommunity.org/event/sunday-liturgy-46/
END:VEVENT
BEGIN:VEVENT
DTSTART;TZID=UTC:20250316T100000
DTEND;TZID=UTC:20250316T113000
DTSTAMP:20260421T143127
CREATED:20241231T061312Z
LAST-MODIFIED:20241231T061315Z
UID:861-1742119200-1742124600@www.sophiainclusivecommunity.org
SUMMARY:Sunday Liturgy
DESCRIPTION:Sunday Liturgy
URL:https://www.sophiainclusivecommunity.org/event/sunday-liturgy-47/
END:VEVENT
BEGIN:VEVENT
DTSTART;TZID=UTC:20250323T100000
DTEND;TZID=UTC:20250323T113000
DTSTAMP:20260421T143127
CREATED:20241231T061407Z
LAST-MODIFIED:20241231T061410Z
UID:863-1742724000-1742729400@www.sophiainclusivecommunity.org
SUMMARY:Sunday Liturgy
DESCRIPTION:Sunday Liturgy
URL:https://www.sophiainclusivecommunity.org/event/sunday-liturgy-48/
END:VEVENT
BEGIN:VEVENT
DTSTART;TZID=UTC:20250330T100000
DTEND;TZID=UTC:20250330T113000
DTSTAMP:20260421T143127
CREATED:20241231T061452Z
LAST-MODIFIED:20241231T061455Z
UID:865-1743328800-1743334200@www.sophiainclusivecommunity.org
SUMMARY:Sunday Liturgy
DESCRIPTION:Sunday Liturgy
URL:https://www.sophiainclusivecommunity.org/event/sunday-liturgy-49/
END:VEVENT
END:VCALENDAR