BEGIN:VCALENDAR
VERSION:2.0
PRODID:-//Sophia Inclusive Community - ECPv6.15.17//NONSGML v1.0//EN
CALSCALE:GREGORIAN
METHOD:PUBLISH
X-WR-CALNAME:Sophia Inclusive Community
X-ORIGINAL-URL:https://www.sophiainclusivecommunity.org
X-WR-CALDESC:Events for Sophia Inclusive Community
REFRESH-INTERVAL;VALUE=DURATION:PT1H
X-Robots-Tag:noindex
X-PUBLISHED-TTL:PT1H
BEGIN:VTIMEZONE
TZID:UTC
BEGIN:STANDARD
TZOFFSETFROM:+0000
TZOFFSETTO:+0000
TZNAME:UTC
DTSTART:20240101T000000
END:STANDARD
END:VTIMEZONE
BEGIN:VEVENT
DTSTART;TZID=UTC:20250504T100000
DTEND;TZID=UTC:20250504T113000
DTSTAMP:20260421T080102
CREATED:20250331T170654Z
LAST-MODIFIED:20250406T204008Z
UID:941-1746352800-1746358200@www.sophiainclusivecommunity.org
SUMMARY:Note: No Sunday Liturgy
DESCRIPTION:Sunday Liturgy & Planning Meeting
URL:https://www.sophiainclusivecommunity.org/event/sunday-liturgy-planning-meeting-2/
END:VEVENT
BEGIN:VEVENT
DTSTART;TZID=UTC:20250507T190000
DTEND;TZID=UTC:20250507T203000
DTSTAMP:20260421T080102
CREATED:20250331T170928Z
LAST-MODIFIED:20250427T183621Z
UID:943-1746644400-1746649800@www.sophiainclusivecommunity.org
SUMMARY:Book Discussion- Democracy Awakening (Part 1)
DESCRIPTION:Book Discussion- Democracy Awakening (Part 1)
URL:https://www.sophiainclusivecommunity.org/event/book-discussion-3/
ATTACH;FMTTYPE=image/jpeg:https://www.sophiainclusivecommunity.org/wp-content/uploads/2025/04/Democracy-Awakening.jpg
END:VEVENT
BEGIN:VEVENT
DTSTART;TZID=UTC:20250511T100000
DTEND;TZID=UTC:20250511T113000
DTSTAMP:20260421T080102
CREATED:20250331T171027Z
LAST-MODIFIED:20250331T171029Z
UID:945-1746957600-1746963000@www.sophiainclusivecommunity.org
SUMMARY:Sunday Liturgy
DESCRIPTION:Sunday Liturgy
URL:https://www.sophiainclusivecommunity.org/event/sunday-liturgy-54/
END:VEVENT
BEGIN:VEVENT
DTSTART;TZID=UTC:20250514T190000
DTEND;TZID=UTC:20250514T203000
DTSTAMP:20260421T080102
CREATED:20250408T182310Z
LAST-MODIFIED:20250408T182311Z
UID:998-1747249200-1747254600@www.sophiainclusivecommunity.org
SUMMARY:What Do I Believe Now?
DESCRIPTION:An informal discussion of our questions\, comments\, confusions\, etc.\, about our personal spiritual beliefs at this time.
URL:https://www.sophiainclusivecommunity.org/event/what-do-i-believe-now/
END:VEVENT
BEGIN:VEVENT
DTSTART;TZID=UTC:20250518T100000
DTEND;TZID=UTC:20250518T113000
DTSTAMP:20260421T080102
CREATED:20250331T171129Z
LAST-MODIFIED:20250331T171131Z
UID:947-1747562400-1747567800@www.sophiainclusivecommunity.org
SUMMARY:Sunday Liturgy
DESCRIPTION:Sunday Liturgy
URL:https://www.sophiainclusivecommunity.org/event/sunday-liturgy-55/
END:VEVENT
BEGIN:VEVENT
DTSTART;TZID=UTC:20250521T190000
DTEND;TZID=UTC:20250521T203000
DTSTAMP:20260421T080102
CREATED:20250331T171330Z
LAST-MODIFIED:20250427T183527Z
UID:951-1747854000-1747859400@www.sophiainclusivecommunity.org
SUMMARY:Book Discussion- Democracy Awakening (Part 2)
DESCRIPTION:Book DiscBook Discussion- Democracy Awakening (Part 2)ussion
URL:https://www.sophiainclusivecommunity.org/event/book-discussion-4/
ATTACH;FMTTYPE=image/jpeg:https://www.sophiainclusivecommunity.org/wp-content/uploads/2025/04/Democracy-Awakening.jpg
END:VEVENT
BEGIN:VEVENT
DTSTART;TZID=UTC:20250525T100000
DTEND;TZID=UTC:20250525T113000
DTSTAMP:20260421T080102
CREATED:20250331T171216Z
LAST-MODIFIED:20250331T171218Z
UID:949-1748167200-1748172600@www.sophiainclusivecommunity.org
SUMMARY:Sunday Liturgy
DESCRIPTION:Sunday Liturgy
URL:https://www.sophiainclusivecommunity.org/event/sunday-liturgy-56/
END:VEVENT
BEGIN:VEVENT
DTSTART;TZID=UTC:20250528T190000
DTEND;TZID=UTC:20250528T203000
DTSTAMP:20260421T080102
CREATED:20250331T171427Z
LAST-MODIFIED:20250408T182452Z
UID:953-1748458800-1748464200@www.sophiainclusivecommunity.org
SUMMARY:Faith Sharing (Tentative)
DESCRIPTION:Faith Sharing (Tentative)
URL:https://www.sophiainclusivecommunity.org/event/faith-sharing-7/
END:VEVENT
END:VCALENDAR