BEGIN:VCALENDAR
VERSION:2.0
PRODID:-//Sophia Inclusive Community - ECPv6.15.17//NONSGML v1.0//EN
CALSCALE:GREGORIAN
METHOD:PUBLISH
X-WR-CALNAME:Sophia Inclusive Community
X-ORIGINAL-URL:https://www.sophiainclusivecommunity.org
X-WR-CALDESC:Events for Sophia Inclusive Community
REFRESH-INTERVAL;VALUE=DURATION:PT1H
X-Robots-Tag:noindex
X-PUBLISHED-TTL:PT1H
BEGIN:VTIMEZONE
TZID:UTC
BEGIN:STANDARD
TZOFFSETFROM:+0000
TZOFFSETTO:+0000
TZNAME:UTC
DTSTART:20240101T000000
END:STANDARD
END:VTIMEZONE
BEGIN:VEVENT
DTSTART;TZID=UTC:20250601T100000
DTEND;TZID=UTC:20250601T113000
DTSTAMP:20260421T113448
CREATED:20250331T171626Z
LAST-MODIFIED:20250331T171628Z
UID:955-1748772000-1748777400@www.sophiainclusivecommunity.org
SUMMARY:Sunday Liturgy & Planning Meeting
DESCRIPTION:Sunday Liturgy & Planning Meeting
URL:https://www.sophiainclusivecommunity.org/event/sunday-liturgy-planning-meeting-3/
END:VEVENT
BEGIN:VEVENT
DTSTART;TZID=UTC:20250608T100000
DTEND;TZID=UTC:20250608T113000
DTSTAMP:20260421T113448
CREATED:20250331T171935Z
LAST-MODIFIED:20250331T171937Z
UID:961-1749376800-1749382200@www.sophiainclusivecommunity.org
SUMMARY:Sunday Liturgy
DESCRIPTION:Sunday Liturgy
URL:https://www.sophiainclusivecommunity.org/event/sunday-liturgy-57/
END:VEVENT
BEGIN:VEVENT
DTSTART;TZID=UTC:20250615T100000
DTEND;TZID=UTC:20250615T113000
DTSTAMP:20260421T113448
CREATED:20250331T172026Z
LAST-MODIFIED:20250331T172028Z
UID:963-1749981600-1749987000@www.sophiainclusivecommunity.org
SUMMARY:Sunday Liturgy
DESCRIPTION:Sunday Liturgy
URL:https://www.sophiainclusivecommunity.org/event/sunday-liturgy-58/
END:VEVENT
BEGIN:VEVENT
DTSTART;TZID=UTC:20250618T190000
DTEND;TZID=UTC:20250618T203000
DTSTAMP:20260421T113448
CREATED:20250427T183849Z
LAST-MODIFIED:20250616T035701Z
UID:1011-1750273200-1750278600@www.sophiainclusivecommunity.org
SUMMARY:Book Discussion- Democracy Awakening (Part 3; pages 163-274)
DESCRIPTION:Book Discussion- Democracy Awakening (Part 3; pages 163-274) )
URL:https://www.sophiainclusivecommunity.org/event/book-discussion-democracy-awakening-part-3/
ATTACH;FMTTYPE=image/jpeg:https://www.sophiainclusivecommunity.org/wp-content/uploads/2025/04/Democracy-Awakening.jpg
END:VEVENT
BEGIN:VEVENT
DTSTART;TZID=UTC:20250622T100000
DTEND;TZID=UTC:20250622T113000
DTSTAMP:20260421T113448
CREATED:20250331T172107Z
LAST-MODIFIED:20250331T172109Z
UID:965-1750586400-1750591800@www.sophiainclusivecommunity.org
SUMMARY:Sunday Liturgy
DESCRIPTION:Sunday Liturgy
URL:https://www.sophiainclusivecommunity.org/event/sunday-liturgy-59/
END:VEVENT
BEGIN:VEVENT
DTSTART;TZID=UTC:20250626T190000
DTEND;TZID=UTC:20250626T203000
DTSTAMP:20260421T113448
CREATED:20250331T175325Z
LAST-MODIFIED:20250616T035829Z
UID:975-1750964400-1750969800@www.sophiainclusivecommunity.org
SUMMARY:Social Justice: An Interfaith Discussion with Soumaya Khalifa & Rabbi Rachael Bregman
DESCRIPTION:Social Justice: An Interfaith Discussion with Soumaya Khalifa & Rabbi Rachael Bregman
URL:https://www.sophiainclusivecommunity.org/event/social-justice-an-interfaith-discussion/
END:VEVENT
BEGIN:VEVENT
DTSTART;TZID=UTC:20250629T100000
DTEND;TZID=UTC:20250629T113000
DTSTAMP:20260421T113448
CREATED:20250331T172200Z
LAST-MODIFIED:20250331T172202Z
UID:967-1751191200-1751196600@www.sophiainclusivecommunity.org
SUMMARY:Sunday Liturgy
DESCRIPTION:Sunday Liturgy
URL:https://www.sophiainclusivecommunity.org/event/sunday-liturgy-60/
END:VEVENT
END:VCALENDAR