BEGIN:VCALENDAR
VERSION:2.0
PRODID:-//Sophia Inclusive Community - ECPv6.15.17//NONSGML v1.0//EN
CALSCALE:GREGORIAN
METHOD:PUBLISH
X-WR-CALNAME:Sophia Inclusive Community
X-ORIGINAL-URL:https://www.sophiainclusivecommunity.org
X-WR-CALDESC:Events for Sophia Inclusive Community
REFRESH-INTERVAL;VALUE=DURATION:PT1H
X-Robots-Tag:noindex
X-PUBLISHED-TTL:PT1H
BEGIN:VTIMEZONE
TZID:UTC
BEGIN:STANDARD
TZOFFSETFROM:+0000
TZOFFSETTO:+0000
TZNAME:UTC
DTSTART:20240101T000000
END:STANDARD
END:VTIMEZONE
BEGIN:VEVENT
DTSTART;TZID=UTC:20250706T100000
DTEND;TZID=UTC:20250706T113000
DTSTAMP:20260421T125608
CREATED:20250331T171731Z
LAST-MODIFIED:20250616T035957Z
UID:957-1751796000-1751801400@www.sophiainclusivecommunity.org
SUMMARY:Sunday Liturgy (Note: no planning meeting for July)
DESCRIPTION:Sunday Liturgy & Planning Meeting (Note: no planning meeting for July)
URL:https://www.sophiainclusivecommunity.org/event/sunday-liturgy-planning-meeting-4/
END:VEVENT
BEGIN:VEVENT
DTSTART;TZID=UTC:20250713T100000
DTEND;TZID=UTC:20250713T113000
DTSTAMP:20260421T125608
CREATED:20250331T173330Z
LAST-MODIFIED:20250331T173332Z
UID:969-1752400800-1752406200@www.sophiainclusivecommunity.org
SUMMARY:Sunday Liturgy
DESCRIPTION:Sunday Liturgy
URL:https://www.sophiainclusivecommunity.org/event/sunday-liturgy-61/
END:VEVENT
BEGIN:VEVENT
DTSTART;TZID=UTC:20250716T190000
DTEND;TZID=UTC:20250716T203000
DTSTAMP:20260421T125608
CREATED:20250427T193002Z
LAST-MODIFIED:20250427T193004Z
UID:1016-1752692400-1752697800@www.sophiainclusivecommunity.org
SUMMARY:Book Discussion
DESCRIPTION:Book Discussion
URL:https://www.sophiainclusivecommunity.org/event/book-discussion-5/
END:VEVENT
BEGIN:VEVENT
DTSTART;TZID=UTC:20250720T100000
DTEND;TZID=UTC:20250720T113000
DTSTAMP:20260421T125608
CREATED:20250331T173418Z
LAST-MODIFIED:20250331T173420Z
UID:971-1753005600-1753011000@www.sophiainclusivecommunity.org
SUMMARY:Sunday Liturgy
DESCRIPTION:Sunday Liturgy
URL:https://www.sophiainclusivecommunity.org/event/sunday-liturgy-62/
END:VEVENT
BEGIN:VEVENT
DTSTART;TZID=UTC:20250723T190000
DTEND;TZID=UTC:20250723T203000
DTSTAMP:20260421T125608
CREATED:20250427T193222Z
LAST-MODIFIED:20250427T193224Z
UID:1018-1753297200-1753302600@www.sophiainclusivecommunity.org
SUMMARY:Faith Sharing (Tentative)
DESCRIPTION:Faith Sharing (Tentative)
URL:https://www.sophiainclusivecommunity.org/event/faith-sharing-tentative/
END:VEVENT
BEGIN:VEVENT
DTSTART;TZID=UTC:20250727T100000
DTEND;TZID=UTC:20250727T113000
DTSTAMP:20260421T125608
CREATED:20250331T173509Z
LAST-MODIFIED:20250331T173511Z
UID:973-1753610400-1753615800@www.sophiainclusivecommunity.org
SUMMARY:Sunday Liturgy
DESCRIPTION:Sunday Liturgy
URL:https://www.sophiainclusivecommunity.org/event/sunday-liturgy-63/
END:VEVENT
BEGIN:VEVENT
DTSTART;TZID=UTC:20250730T190000
DTEND;TZID=UTC:20250730T203000
DTSTAMP:20260421T125608
CREATED:20250616T040153Z
LAST-MODIFIED:20250616T040157Z
UID:1088-1753902000-1753907400@www.sophiainclusivecommunity.org
SUMMARY:What We Believe - an open discussion of our personal spiritual beliefs.
DESCRIPTION:What We Believe – an open discussion of our personal spiritual beliefs.
URL:https://www.sophiainclusivecommunity.org/event/what-we-believe-an-open-discussion-of-our-personal-spiritual-beliefs/
END:VEVENT
END:VCALENDAR