BEGIN:VCALENDAR
VERSION:2.0
PRODID:-//Sophia Inclusive Community - ECPv6.15.17//NONSGML v1.0//EN
CALSCALE:GREGORIAN
METHOD:PUBLISH
X-ORIGINAL-URL:https://www.sophiainclusivecommunity.org
X-WR-CALDESC:Events for Sophia Inclusive Community
REFRESH-INTERVAL;VALUE=DURATION:PT1H
X-Robots-Tag:noindex
X-PUBLISHED-TTL:PT1H
BEGIN:VTIMEZONE
TZID:UTC
BEGIN:STANDARD
TZOFFSETFROM:+0000
TZOFFSETTO:+0000
TZNAME:UTC
DTSTART:20240101T000000
END:STANDARD
END:VTIMEZONE
BEGIN:VEVENT
DTSTART;TZID=UTC:20250803T100000
DTEND;TZID=UTC:20250803T113000
DTSTAMP:20260421T111945
CREATED:20250331T171822Z
LAST-MODIFIED:20250331T171824Z
UID:959-1754215200-1754220600@www.sophiainclusivecommunity.org
SUMMARY:Sunday Liturgy & Planning Meeting
DESCRIPTION:Sunday Liturgy & Planning Meeting
URL:https://www.sophiainclusivecommunity.org/event/sunday-liturgy-planning-meeting-5/
END:VEVENT
BEGIN:VEVENT
DTSTART;TZID=UTC:20250810T100000
DTEND;TZID=UTC:20250810T113000
DTSTAMP:20260421T111945
CREATED:20250428T183526Z
LAST-MODIFIED:20250428T183534Z
UID:1022-1754820000-1754825400@www.sophiainclusivecommunity.org
SUMMARY:Sunday Liturgy
DESCRIPTION:Sunday Liturgy
URL:https://www.sophiainclusivecommunity.org/event/sunday-liturgy-52/
END:VEVENT
BEGIN:VEVENT
DTSTART;TZID=UTC:20250817T100000
DTEND;TZID=UTC:20250817T113000
DTSTAMP:20260421T111945
CREATED:20250428T184629Z
LAST-MODIFIED:20250428T184633Z
UID:1026-1755424800-1755430200@www.sophiainclusivecommunity.org
SUMMARY:Sunday Liturgy
DESCRIPTION:Sunday Liturgy
URL:https://www.sophiainclusivecommunity.org/event/sunday-liturgy-65/
END:VEVENT
BEGIN:VEVENT
DTSTART;TZID=UTC:20250820T190000
DTEND;TZID=UTC:20250820T203000
DTSTAMP:20260421T111945
CREATED:20250720T200557Z
LAST-MODIFIED:20250720T200601Z
UID:1097-1755716400-1755721800@www.sophiainclusivecommunity.org
SUMMARY:Book Discussion- Heartland Chapters 4 & 5
DESCRIPTION:Book Discussion- Heartland Chapters 4 & 5
URL:https://www.sophiainclusivecommunity.org/event/book-discussion-heartland-chapters-4-5/
ATTACH;FMTTYPE=image/jpeg:https://www.sophiainclusivecommunity.org/wp-content/uploads/2025/07/Heartland-Book.jpg
END:VEVENT
BEGIN:VEVENT
DTSTART;TZID=UTC:20250824T100000
DTEND;TZID=UTC:20250824T113000
DTSTAMP:20260421T111945
CREATED:20250428T184325Z
LAST-MODIFIED:20250428T184405Z
UID:1024-1756029600-1756035000@www.sophiainclusivecommunity.org
SUMMARY:Sunday Liturgy
DESCRIPTION:Sunday Liturgy
URL:https://www.sophiainclusivecommunity.org/event/sunday-liturgy-64/
END:VEVENT
BEGIN:VEVENT
DTSTART;TZID=UTC:20250827T190000
DTEND;TZID=UTC:20250827T203000
DTSTAMP:20260421T111945
CREATED:20250428T185552Z
LAST-MODIFIED:20250428T185554Z
UID:1032-1756321200-1756326600@www.sophiainclusivecommunity.org
SUMMARY:Faith Sharing (Tentative)
DESCRIPTION:Faith Sharing (Tentative)
URL:https://www.sophiainclusivecommunity.org/event/faith-sharing-tentative-2/
END:VEVENT
BEGIN:VEVENT
DTSTART;TZID=UTC:20250831T100000
DTEND;TZID=UTC:20250831T113000
DTSTAMP:20260421T111945
CREATED:20250428T184800Z
LAST-MODIFIED:20250428T184805Z
UID:1029-1756634400-1756639800@www.sophiainclusivecommunity.org
SUMMARY:Sunday Liturgy
DESCRIPTION:Sunday Liturgy
URL:https://www.sophiainclusivecommunity.org/event/sunday-liturgy-66/
END:VEVENT
END:VCALENDAR