BEGIN:VCALENDAR
VERSION:2.0
PRODID:-//Sophia Inclusive Community - ECPv6.15.17//NONSGML v1.0//EN
CALSCALE:GREGORIAN
METHOD:PUBLISH
X-WR-CALNAME:Sophia Inclusive Community
X-ORIGINAL-URL:https://www.sophiainclusivecommunity.org
X-WR-CALDESC:Events for Sophia Inclusive Community
REFRESH-INTERVAL;VALUE=DURATION:PT1H
X-Robots-Tag:noindex
X-PUBLISHED-TTL:PT1H
BEGIN:VTIMEZONE
TZID:UTC
BEGIN:STANDARD
TZOFFSETFROM:+0000
TZOFFSETTO:+0000
TZNAME:UTC
DTSTART:20240101T000000
END:STANDARD
END:VTIMEZONE
BEGIN:VEVENT
DTSTART;TZID=UTC:20251001T190000
DTEND;TZID=UTC:20251001T203000
DTSTAMP:20260421T080101
CREATED:20250925T180950Z
LAST-MODIFIED:20250925T181436Z
UID:1124-1759345200-1759350600@www.sophiainclusivecommunity.org
SUMMARY:Book Discussion - How We Learn to be Brave. Chapters 4 to 6
DESCRIPTION:Book Discussion – How We Learn to be Brave. Chapters 4 to 6
URL:https://www.sophiainclusivecommunity.org/event/book-discussion-how-we-learn-to-be-brave-chapters-4-to-6/
ATTACH;FMTTYPE=image/webp:https://www.sophiainclusivecommunity.org/wp-content/uploads/2025/09/How-We-Learn-to-Be-Brave.webp
END:VEVENT
BEGIN:VEVENT
DTSTART;TZID=UTC:20251002T190000
DTEND;TZID=UTC:20251002T203000
DTSTAMP:20260421T080101
CREATED:20250925T181612Z
LAST-MODIFIED:20250925T181615Z
UID:1128-1759431600-1759437000@www.sophiainclusivecommunity.org
SUMMARY:Social Justice Presentation - Indigenous Populations
DESCRIPTION:Social Justice Presentation – Indigenous Populations
URL:https://www.sophiainclusivecommunity.org/event/social-justice-presentation-indigenous-populations/
END:VEVENT
BEGIN:VEVENT
DTSTART;TZID=UTC:20251005T100000
DTEND;TZID=UTC:20251005T113000
DTSTAMP:20260421T080101
CREATED:20250925T181809Z
LAST-MODIFIED:20250925T181913Z
UID:1130-1759658400-1759663800@www.sophiainclusivecommunity.org
SUMMARY:Liturgy & Planning Meeting
DESCRIPTION:Liturgy & Planning Meeting
URL:https://www.sophiainclusivecommunity.org/event/liturgy-planning-meeting/
END:VEVENT
BEGIN:VEVENT
DTSTART;TZID=UTC:20251012T100000
DTEND;TZID=UTC:20251012T113000
DTSTAMP:20260421T080101
CREATED:20250925T182116Z
LAST-MODIFIED:20250925T182121Z
UID:1132-1760263200-1760268600@www.sophiainclusivecommunity.org
SUMMARY:Liturgy
DESCRIPTION:Liturgy
URL:https://www.sophiainclusivecommunity.org/event/liturgy-3/
END:VEVENT
BEGIN:VEVENT
DTSTART;TZID=UTC:20251017T000000
DTEND;TZID=UTC:20251019T235959
DTSTAMP:20260421T080101
CREATED:20250408T182821Z
LAST-MODIFIED:20250408T182823Z
UID:1002-1760659200-1760918399@www.sophiainclusivecommunity.org
SUMMARY:Sophia Retreat
DESCRIPTION:Sophia Retreat
URL:https://www.sophiainclusivecommunity.org/event/sophia-retreat-2/
END:VEVENT
BEGIN:VEVENT
DTSTART;TZID=UTC:20251022T190000
DTEND;TZID=UTC:20251022T203000
DTSTAMP:20260421T080101
CREATED:20250925T182442Z
LAST-MODIFIED:20250925T182446Z
UID:1136-1761159600-1761165000@www.sophiainclusivecommunity.org
SUMMARY:Faith Sharing
DESCRIPTION:Faith Sharing
URL:https://www.sophiainclusivecommunity.org/event/faith-sharing-8/
END:VEVENT
BEGIN:VEVENT
DTSTART;TZID=UTC:20251026T100000
DTEND;TZID=UTC:20251026T113000
DTSTAMP:20260421T080101
CREATED:20250925T182311Z
LAST-MODIFIED:20250925T182318Z
UID:1134-1761472800-1761478200@www.sophiainclusivecommunity.org
SUMMARY:Liturgy
DESCRIPTION:Liturgy
URL:https://www.sophiainclusivecommunity.org/event/liturgy-4/
END:VEVENT
END:VCALENDAR