BEGIN:VCALENDAR
VERSION:2.0
PRODID:-//Sophia Inclusive Community - ECPv6.15.17//NONSGML v1.0//EN
CALSCALE:GREGORIAN
METHOD:PUBLISH
X-WR-CALNAME:Sophia Inclusive Community
X-ORIGINAL-URL:https://www.sophiainclusivecommunity.org
X-WR-CALDESC:Events for Sophia Inclusive Community
REFRESH-INTERVAL;VALUE=DURATION:PT1H
X-Robots-Tag:noindex
X-PUBLISHED-TTL:PT1H
BEGIN:VTIMEZONE
TZID:UTC
BEGIN:STANDARD
TZOFFSETFROM:+0000
TZOFFSETTO:+0000
TZNAME:UTC
DTSTART:20240101T000000
END:STANDARD
END:VTIMEZONE
BEGIN:VEVENT
DTSTART;TZID=UTC:20251204T190000
DTEND;TZID=UTC:20251204T203000
DTSTAMP:20260421T045439
CREATED:20251203T064025Z
LAST-MODIFIED:20251203T064034Z
UID:1181-1764874800-1764880200@www.sophiainclusivecommunity.org
SUMMARY:Social Justice Presentation- Let's Talk About Immigration
DESCRIPTION:Social Justice Presentation- Let’s Talk About Immigration
URL:https://www.sophiainclusivecommunity.org/event/social-justice-presentation-lets-talk-about-immigration/
END:VEVENT
BEGIN:VEVENT
DTSTART;TZID=UTC:20251207T100000
DTEND;TZID=UTC:20251207T113000
DTSTAMP:20260421T045439
CREATED:20251203T063335Z
LAST-MODIFIED:20251203T063339Z
UID:1173-1765101600-1765107000@www.sophiainclusivecommunity.org
SUMMARY:Liturgy and Planning Meeting
DESCRIPTION:Liturgy and Planning Meeting
URL:https://www.sophiainclusivecommunity.org/event/liturgy-and-planning-meeting/
END:VEVENT
BEGIN:VEVENT
DTSTART;TZID=UTC:20251214T100000
DTEND;TZID=UTC:20251214T113000
DTSTAMP:20260421T045439
CREATED:20251203T063451Z
LAST-MODIFIED:20251203T063454Z
UID:1175-1765706400-1765711800@www.sophiainclusivecommunity.org
SUMMARY:Liturgy
DESCRIPTION:Liturgy
URL:https://www.sophiainclusivecommunity.org/event/liturgy-9/
END:VEVENT
BEGIN:VEVENT
DTSTART;TZID=UTC:20251221T100000
DTEND;TZID=UTC:20251221T113000
DTSTAMP:20260421T045439
CREATED:20251203T063604Z
LAST-MODIFIED:20251203T063618Z
UID:1177-1766311200-1766316600@www.sophiainclusivecommunity.org
SUMMARY:Liturgy
DESCRIPTION:Liturgy
URL:https://www.sophiainclusivecommunity.org/event/liturgy-10/
END:VEVENT
BEGIN:VEVENT
DTSTART;TZID=UTC:20251228T100000
DTEND;TZID=UTC:20251228T113000
DTSTAMP:20260421T045439
CREATED:20251203T063717Z
LAST-MODIFIED:20251203T063723Z
UID:1179-1766916000-1766921400@www.sophiainclusivecommunity.org
SUMMARY:Liturgy
DESCRIPTION:
URL:https://www.sophiainclusivecommunity.org/event/liturgy-11/
END:VEVENT
END:VCALENDAR